Package: sesame Version: 1.27.0 Command: /home/rapidbuild/bbs-3.22-bioc-rapid/R/bin/R CMD INSTALL sesame StartedAt: 2025-06-17 18:22:29 -0400 (Tue, 17 Jun 2025) EndedAt: 2025-06-17 18:22:59 -0400 (Tue, 17 Jun 2025) EllapsedTime: 29.9 seconds RetCode: 0 Status: OK