Package: snifter Version: 1.19.1 Command: /home/rapidbuild/bbs-3.22-bioc-rapid/R/bin/R CMD build --keep-empty-dirs --no-resave-data snifter StartedAt: 2025-06-17 19:40:12 -0400 (Tue, 17 Jun 2025) EndedAt: 2025-06-17 19:40:38 -0400 (Tue, 17 Jun 2025) EllapsedTime: 26.0 seconds RetCode: 0 Status: OK PackageFile: snifter_1.19.1.tar.gz PackageFileSize: 725.2 KiB