Package: snpStats Version: 1.59.2 Command: /home/rapidbuild/bbs-3.22-bioc-rapid/R/bin/R CMD build --keep-empty-dirs --no-resave-data snpStats StartedAt: 2025-06-17 19:40:38 -0400 (Tue, 17 Jun 2025) EndedAt: 2025-06-17 19:41:31 -0400 (Tue, 17 Jun 2025) EllapsedTime: 52.6 seconds RetCode: 0 Status: OK PackageFile: snpStats_1.59.2.tar.gz PackageFileSize: 7.727 MiB