Package: snpStats Version: 1.59.2 Command: /home/rapidbuild/bbs-3.22-bioc-rapid/R/bin/R CMD INSTALL snpStats StartedAt: 2025-06-17 18:10:53 -0400 (Tue, 17 Jun 2025) EndedAt: 2025-06-17 18:11:11 -0400 (Tue, 17 Jun 2025) EllapsedTime: 18.5 seconds RetCode: 0 Status: OK