Package: sva Version: 3.57.0 Command: /home/rapidbuild/bbs-3.22-bioc-rapid/R/bin/R CMD build --keep-empty-dirs --no-resave-data sva StartedAt: 2025-06-17 19:42:36 -0400 (Tue, 17 Jun 2025) EndedAt: 2025-06-17 19:43:23 -0400 (Tue, 17 Jun 2025) EllapsedTime: 46.7 seconds RetCode: 0 Status: OK PackageFile: sva_3.57.0.tar.gz PackageFileSize: 442.4 KiB