Package: sva Version: 3.57.0 Command: /home/rapidbuild/bbs-3.22-bioc-rapid/R/bin/R CMD INSTALL sva StartedAt: 2025-06-17 18:25:51 -0400 (Tue, 17 Jun 2025) EndedAt: 2025-06-17 18:26:11 -0400 (Tue, 17 Jun 2025) EllapsedTime: 20.0 seconds RetCode: 0 Status: OK