Package: tkWidgets Version: 1.87.0 Command: /home/rapidbuild/bbs-3.22-bioc-rapid/R/bin/R CMD INSTALL tkWidgets StartedAt: 2025-06-17 18:10:12 -0400 (Tue, 17 Jun 2025) EndedAt: 2025-06-17 18:10:18 -0400 (Tue, 17 Jun 2025) EllapsedTime: 6.2 seconds RetCode: 0 Status: OK