Package: vsn Version: 3.77.0 Command: /home/rapidbuild/bbs-3.22-bioc-rapid/R/bin/R CMD INSTALL vsn StartedAt: 2025-06-17 18:16:26 -0400 (Tue, 17 Jun 2025) EndedAt: 2025-06-17 18:16:35 -0400 (Tue, 17 Jun 2025) EllapsedTime: 9.0 seconds RetCode: 0 Status: OK