Package: AHLRBaseDbs Version: 1.8.0 Command: /home/biocbuild/bbs-3.22-bioc/R/bin/R CMD build --keep-empty-dirs --no-resave-data AHLRBaseDbs StartedAt: 2025-07-16 06:31:11 -0400 (Wed, 16 Jul 2025) EndedAt: 2025-07-16 06:31:26 -0400 (Wed, 16 Jul 2025) EllapsedTime: 14.8 seconds RetCode: 0 Status: OK PackageFile: AHLRBaseDbs_1.8.0.tar.gz PackageFileSize: 340.3 KiB