Package: AHLRBaseDbs Version: 1.8.0 Command: /home/biocbuild/bbs-3.22-bioc/R/bin/R CMD INSTALL AHLRBaseDbs StartedAt: 2025-07-16 06:30:17 -0400 (Wed, 16 Jul 2025) EndedAt: 2025-07-16 06:30:18 -0400 (Wed, 16 Jul 2025) EllapsedTime: 1.0 seconds RetCode: 0 Status: OK