Package: BioMartGOGeneSets Version: 0.99.11 Command: /home/biocbuild/bbs-3.22-bioc/R/bin/R CMD build --keep-empty-dirs --no-resave-data BioMartGOGeneSets StartedAt: 2025-07-09 06:31:13 -0400 (Wed, 09 Jul 2025) EndedAt: 2025-07-09 06:32:01 -0400 (Wed, 09 Jul 2025) EllapsedTime: 48.2 seconds RetCode: 0 Status: OK PackageFile: BioMartGOGeneSets_0.99.11.tar.gz PackageFileSize: 819.1 KiB