Package: CTCF Version: 0.99.11 Command: /home/biocbuild/bbs-3.22-bioc/R/bin/R CMD build --keep-empty-dirs --no-resave-data CTCF StartedAt: 2025-07-09 06:31:13 -0400 (Wed, 09 Jul 2025) EndedAt: 2025-07-09 06:31:50 -0400 (Wed, 09 Jul 2025) EllapsedTime: 36.7 seconds RetCode: 1 Status: ERROR PackageFile: None PackageFileSize: NA