Package: CTCF Version: 0.99.11 Command: /home/biocbuild/bbs-3.22-bioc/R/bin/R CMD INSTALL CTCF StartedAt: 2025-07-09 06:30:07 -0400 (Wed, 09 Jul 2025) EndedAt: 2025-07-09 06:30:09 -0400 (Wed, 09 Jul 2025) EllapsedTime: 2.0 seconds RetCode: 0 Status: OK