Package: ENCODExplorerData Version: 0.99.5 Command: /home/biocbuild/bbs-3.22-bioc/R/bin/R CMD INSTALL ENCODExplorerData StartedAt: 2025-07-09 06:30:08 -0400 (Wed, 09 Jul 2025) EndedAt: 2025-07-09 06:30:11 -0400 (Wed, 09 Jul 2025) EllapsedTime: 3.1 seconds RetCode: 0 Status: OK