Package: EpiTxDb.Hs.hg38 Version: 0.99.7 Command: /home/biocbuild/bbs-3.22-bioc/R/bin/R CMD build --keep-empty-dirs --no-resave-data EpiTxDb.Hs.hg38 StartedAt: 2025-07-16 06:31:13 -0400 (Wed, 16 Jul 2025) EndedAt: 2025-07-16 06:32:23 -0400 (Wed, 16 Jul 2025) EllapsedTime: 69.8 seconds RetCode: 0 Status: OK PackageFile: EpiTxDb.Hs.hg38_0.99.7.tar.gz PackageFileSize: 316.9 KiB