Package: EpiTxDb.Hs.hg38 Version: 0.99.7 Command: /home/biocbuild/bbs-3.22-bioc/R/bin/R CMD INSTALL EpiTxDb.Hs.hg38 StartedAt: 2025-07-09 06:30:26 -0400 (Wed, 09 Jul 2025) EndedAt: 2025-07-09 06:31:08 -0400 (Wed, 09 Jul 2025) EllapsedTime: 41.6 seconds RetCode: 0 Status: OK