Package: EpiTxDb.Mm.mm10 Version: 0.99.6 Command: /home/biocbuild/bbs-3.22-bioc/R/bin/R CMD build --keep-empty-dirs --no-resave-data EpiTxDb.Mm.mm10 StartedAt: 2025-07-09 06:31:17 -0400 (Wed, 09 Jul 2025) EndedAt: 2025-07-09 06:32:18 -0400 (Wed, 09 Jul 2025) EllapsedTime: 61.0 seconds RetCode: 0 Status: OK PackageFile: EpiTxDb.Mm.mm10_0.99.6.tar.gz PackageFileSize: 305.6 KiB