Package: EpiTxDb.Mm.mm10 Version: 0.99.6 Command: /home/biocbuild/bbs-3.22-bioc/R/bin/R CMD INSTALL EpiTxDb.Mm.mm10 StartedAt: 2025-07-09 06:30:26 -0400 (Wed, 09 Jul 2025) EndedAt: 2025-07-09 06:31:06 -0400 (Wed, 09 Jul 2025) EllapsedTime: 39.7 seconds RetCode: 0 Status: OK