Package: EpiTxDb.Sc.sacCer3 Version: 0.99.5 Command: /home/biocbuild/bbs-3.22-bioc/R/bin/R CMD build --keep-empty-dirs --no-resave-data EpiTxDb.Sc.sacCer3 StartedAt: 2025-07-16 06:31:18 -0400 (Wed, 16 Jul 2025) EndedAt: 2025-07-16 06:32:19 -0400 (Wed, 16 Jul 2025) EllapsedTime: 61.6 seconds RetCode: 0 Status: OK PackageFile: EpiTxDb.Sc.sacCer3_0.99.5.tar.gz PackageFileSize: 304.4 KiB