Package: EuPathDB Version: 1.0.1 Command: /home/biocbuild/bbs-3.22-bioc/R/bin/R CMD build --keep-empty-dirs --no-resave-data EuPathDB StartedAt: 2025-07-09 06:31:26 -0400 (Wed, 09 Jul 2025) EndedAt: 2025-07-09 06:32:21 -0400 (Wed, 09 Jul 2025) EllapsedTime: 55.3 seconds RetCode: 1 Status: ERROR PackageFile: None PackageFileSize: NA