Package: EuPathDB Version: 1.0.1 Command: /home/biocbuild/bbs-3.22-bioc/R/bin/R CMD INSTALL EuPathDB StartedAt: 2025-07-09 06:30:21 -0400 (Wed, 09 Jul 2025) EndedAt: 2025-07-09 06:30:58 -0400 (Wed, 09 Jul 2025) EllapsedTime: 36.8 seconds RetCode: 0 Status: OK