Package: GeneSummary Version: 0.99.6 Command: /home/biocbuild/bbs-3.22-bioc/R/bin/R CMD INSTALL GeneSummary StartedAt: 2025-07-16 06:30:07 -0400 (Wed, 16 Jul 2025) EndedAt: 2025-07-16 06:30:08 -0400 (Wed, 16 Jul 2025) EllapsedTime: 1.9 seconds RetCode: 0 Status: OK