Package: GenomicState Version: 0.99.16 Command: /home/biocbuild/bbs-3.22-bioc/R/bin/R CMD INSTALL GenomicState StartedAt: 2025-07-09 06:30:24 -0400 (Wed, 09 Jul 2025) EndedAt: 2025-07-09 06:30:59 -0400 (Wed, 09 Jul 2025) EllapsedTime: 34.4 seconds RetCode: 0 Status: OK