Package: JASPAR2020 Version: 0.99.8 Command: /home/biocbuild/bbs-3.22-bioc/R/bin/R CMD build --keep-empty-dirs --no-resave-data JASPAR2020 StartedAt: 2025-07-09 06:31:51 -0400 (Wed, 09 Jul 2025) EndedAt: 2025-07-09 06:32:15 -0400 (Wed, 09 Jul 2025) EllapsedTime: 23.6 seconds RetCode: 0 Status: OK PackageFile: JASPAR2020_0.99.8.tar.gz PackageFileSize: 10 MiB