Package: JASPAR2022 Version: 0.99.8 Command: /home/biocbuild/bbs-3.22-bioc/R/bin/R CMD build --keep-empty-dirs --no-resave-data JASPAR2022 StartedAt: 2025-07-09 06:31:57 -0400 (Wed, 09 Jul 2025) EndedAt: 2025-07-09 06:32:21 -0400 (Wed, 09 Jul 2025) EllapsedTime: 24.3 seconds RetCode: 0 Status: OK PackageFile: JASPAR2022_0.99.8.tar.gz PackageFileSize: 275.8 KiB