Package: JASPAR2022 Version: 0.99.8 Command: /home/biocbuild/bbs-3.22-bioc/R/bin/R CMD INSTALL JASPAR2022 StartedAt: 2025-07-09 06:30:10 -0400 (Wed, 09 Jul 2025) EndedAt: 2025-07-09 06:30:15 -0400 (Wed, 09 Jul 2025) EllapsedTime: 5.4 seconds RetCode: 0 Status: OK