Package: JASPAR2024 Version: 0.99.7 Command: /home/biocbuild/bbs-3.22-bioc/R/bin/R CMD build --keep-empty-dirs --no-resave-data JASPAR2024 StartedAt: 2025-07-09 06:31:57 -0400 (Wed, 09 Jul 2025) EndedAt: 2025-07-09 06:32:06 -0400 (Wed, 09 Jul 2025) EllapsedTime: 8.8 seconds RetCode: 0 Status: OK PackageFile: JASPAR2024_0.99.7.tar.gz PackageFileSize: 219.5 KiB