Package: MPO.db Version: 0.99.8 Command: /home/biocbuild/bbs-3.22-bioc/R/bin/R CMD build --keep-empty-dirs --no-resave-data MPO.db StartedAt: 2025-07-09 06:32:02 -0400 (Wed, 09 Jul 2025) EndedAt: 2025-07-09 06:32:44 -0400 (Wed, 09 Jul 2025) EllapsedTime: 42.3 seconds RetCode: 0 Status: OK PackageFile: MPO.db_0.99.8.tar.gz PackageFileSize: 29.9 KiB