Package: MPO.db Version: 0.99.8 Command: /home/biocbuild/bbs-3.22-bioc/R/bin/R CMD INSTALL MPO.db StartedAt: 2025-07-09 06:30:18 -0400 (Wed, 09 Jul 2025) EndedAt: 2025-07-09 06:30:40 -0400 (Wed, 09 Jul 2025) EllapsedTime: 22.8 seconds RetCode: 0 Status: OK