Package: PANTHER.db Version: 1.0.12 Command: /home/biocbuild/bbs-3.22-bioc/R/bin/R CMD build --keep-empty-dirs --no-resave-data PANTHER.db StartedAt: 2025-07-16 06:32:02 -0400 (Wed, 16 Jul 2025) EndedAt: 2025-07-16 06:32:34 -0400 (Wed, 16 Jul 2025) EllapsedTime: 31.5 seconds RetCode: 0 Status: OK PackageFile: PANTHER.db_1.0.12.tar.gz PackageFileSize: 317.6 KiB