Package: PANTHER.db Version: 1.0.12 Command: /home/biocbuild/bbs-3.22-bioc/R/bin/R CMD INSTALL PANTHER.db StartedAt: 2025-07-16 06:30:18 -0400 (Wed, 16 Jul 2025) EndedAt: 2025-07-16 06:30:37 -0400 (Wed, 16 Jul 2025) EllapsedTime: 19.1 seconds RetCode: 0 Status: OK