Package: SomaScan.db Version: 0.99.10 Command: /home/biocbuild/bbs-3.22-bioc/R/bin/R CMD build --keep-empty-dirs --no-resave-data SomaScan.db StartedAt: 2025-07-09 06:32:15 -0400 (Wed, 09 Jul 2025) EndedAt: 2025-07-09 06:33:08 -0400 (Wed, 09 Jul 2025) EllapsedTime: 52.4 seconds RetCode: 0 Status: OK PackageFile: SomaScan.db_0.99.10.tar.gz PackageFileSize: 2.13 MiB