Package: SomaScan.db Version: 0.99.10 Command: /home/biocbuild/bbs-3.22-bioc/R/bin/R CMD INSTALL SomaScan.db StartedAt: 2025-07-09 06:30:08 -0400 (Wed, 09 Jul 2025) EndedAt: 2025-07-09 06:30:21 -0400 (Wed, 09 Jul 2025) EllapsedTime: 12.6 seconds RetCode: 0 Status: OK