Package: TENET.AnnotationHub Version: 1.0.0 Command: /home/biocbuild/bbs-3.22-bioc/R/bin/R CMD INSTALL TENET.AnnotationHub StartedAt: 2025-07-09 06:30:10 -0400 (Wed, 09 Jul 2025) EndedAt: 2025-07-09 06:30:17 -0400 (Wed, 09 Jul 2025) EllapsedTime: 7.6 seconds RetCode: 0 Status: OK