Package: UCSCRepeatMasker Version: 3.17.3 Command: /home/biocbuild/bbs-3.22-bioc/R/bin/R CMD build --keep-empty-dirs --no-resave-data UCSCRepeatMasker StartedAt: 2025-07-09 06:32:22 -0400 (Wed, 09 Jul 2025) EndedAt: 2025-07-09 06:32:58 -0400 (Wed, 09 Jul 2025) EllapsedTime: 36.0 seconds RetCode: 0 Status: OK PackageFile: UCSCRepeatMasker_3.17.3.tar.gz PackageFileSize: 303.1 KiB