Package: UCSCRepeatMasker Version: 3.17.3 Command: /home/biocbuild/bbs-3.22-bioc/R/bin/R CMD INSTALL UCSCRepeatMasker StartedAt: 2025-07-09 06:30:09 -0400 (Wed, 09 Jul 2025) EndedAt: 2025-07-09 06:30:24 -0400 (Wed, 09 Jul 2025) EllapsedTime: 14.7 seconds RetCode: 0 Status: OK