Package: cadd.v1.6.hg19 Version: 3.18.1 Command: /home/biocbuild/bbs-3.22-bioc/R/bin/R CMD check --install=check:cadd.v1.6.hg19.install-out.txt --library=/home/biocbuild/bbs-3.22-bioc/R/site-library --timings cadd.v1.6.hg19_3.18.1.tar.gz StartedAt: 2025-07-16 06:33:40 -0400 (Wed, 16 Jul 2025) EndedAt: 2025-07-16 06:35:18 -0400 (Wed, 16 Jul 2025) EllapsedTime: 98.0 seconds RetCode: 0 Status: OK CheckDir: cadd.v1.6.hg19.Rcheck Warnings: 0