Package: excluderanges Version: 0.99.8 Command: /home/biocbuild/bbs-3.22-bioc/R/bin/R CMD build --keep-empty-dirs --no-resave-data excluderanges StartedAt: 2025-07-09 06:31:28 -0400 (Wed, 09 Jul 2025) EndedAt: 2025-07-09 06:31:51 -0400 (Wed, 09 Jul 2025) EllapsedTime: 22.8 seconds RetCode: 1 Status: ERROR PackageFile: None PackageFileSize: NA