Package: metaboliteIDmapping Version: 0.99.10 Command: /home/biocbuild/bbs-3.22-bioc/R/bin/R CMD INSTALL metaboliteIDmapping StartedAt: 2025-07-09 06:30:11 -0400 (Wed, 09 Jul 2025) EndedAt: 2025-07-09 06:30:54 -0400 (Wed, 09 Jul 2025) EllapsedTime: 43.5 seconds RetCode: 0 Status: OK