Package: org.Hbacteriophora.eg.db Version: 0.99.1 Command: /home/biocbuild/bbs-3.22-bioc/R/bin/R CMD INSTALL org.Hbacteriophora.eg.db StartedAt: 2025-10-22 05:55:08 -0400 (Wed, 22 Oct 2025) EndedAt: 2025-10-22 05:55:21 -0400 (Wed, 22 Oct 2025) EllapsedTime: 12.5 seconds RetCode: 0 Status: OK