Package: phastCons30way.UCSC.hg38 Version: 3.13.1 Command: /home/biocbuild/bbs-3.22-bioc/R/bin/R CMD build --keep-empty-dirs --no-resave-data phastCons30way.UCSC.hg38 StartedAt: 2025-07-16 06:32:03 -0400 (Wed, 16 Jul 2025) EndedAt: 2025-07-16 06:32:25 -0400 (Wed, 16 Jul 2025) EllapsedTime: 21.9 seconds RetCode: 0 Status: OK PackageFile: phastCons30way.UCSC.hg38_3.13.1.tar.gz PackageFileSize: 299.8 KiB