Package: phastCons30way.UCSC.hg38 Version: 3.13.1 Command: /home/biocbuild/bbs-3.22-bioc/R/bin/R CMD INSTALL phastCons30way.UCSC.hg38 StartedAt: 2025-07-09 06:30:22 -0400 (Wed, 09 Jul 2025) EndedAt: 2025-07-09 06:30:40 -0400 (Wed, 09 Jul 2025) EllapsedTime: 17.9 seconds RetCode: 0 Status: OK