Package: rGenomeTracksData Version: 0.99.0 Command: /home/biocbuild/bbs-3.22-bioc/R/bin/R CMD build --keep-empty-dirs --no-resave-data rGenomeTracksData StartedAt: 2025-07-09 06:32:10 -0400 (Wed, 09 Jul 2025) EndedAt: 2025-07-09 06:32:30 -0400 (Wed, 09 Jul 2025) EllapsedTime: 20.3 seconds RetCode: 0 Status: OK PackageFile: rGenomeTracksData_0.99.0.tar.gz PackageFileSize: 10.03 KiB