Package: scAnnotatR.models Version: 0.99.10 Command: /home/biocbuild/bbs-3.22-bioc/R/bin/R CMD build --keep-empty-dirs --no-resave-data scAnnotatR.models StartedAt: 2025-07-09 06:32:15 -0400 (Wed, 09 Jul 2025) EndedAt: 2025-07-09 06:33:04 -0400 (Wed, 09 Jul 2025) EllapsedTime: 49.2 seconds RetCode: 0 Status: OK PackageFile: scAnnotatR.models_0.99.10.tar.gz PackageFileSize: 12.94 KiB