Package: synaptome.db Version: 0.99.16 Command: /home/biocbuild/bbs-3.22-bioc/R/bin/R CMD build --keep-empty-dirs --no-resave-data synaptome.db StartedAt: 2025-07-09 06:32:21 -0400 (Wed, 09 Jul 2025) EndedAt: 2025-07-09 06:33:23 -0400 (Wed, 09 Jul 2025) EllapsedTime: 61.9 seconds RetCode: 0 Status: OK PackageFile: synaptome.db_0.99.16.tar.gz PackageFileSize: 317.3 KiB