Package: synaptome.db Version: 0.99.16 Command: /home/biocbuild/bbs-3.22-bioc/R/bin/R CMD INSTALL synaptome.db StartedAt: 2025-07-09 06:30:25 -0400 (Wed, 09 Jul 2025) EndedAt: 2025-07-09 06:30:50 -0400 (Wed, 09 Jul 2025) EllapsedTime: 25.7 seconds RetCode: 0 Status: OK