Welcome to mirrors.dotsrc.org

All our mirrors of open source software are available via http, https, ftp and an onion service. More information about our mirrors including statistics and contact information is available on our mirror info pages.

For information about dotsrc.org and our other services please go to our website.

Index of /bioconductor/checkResults/devel/data-experiment-LATEST/

File Name  ↓ File Size  ↓ Date  ↓ 
--
-2025-10-09 19:41:41
-2025-10-09 19:41:41
-2025-10-09 19:41:41
-2025-10-09 19:41:41
-2025-10-09 19:41:41
-2025-10-09 19:41:41
-2025-10-09 19:41:41
-2025-10-09 19:41:41
-2025-10-09 19:41:41
-2025-10-09 19:41:41
-2025-10-09 19:41:41
-2025-10-09 19:41:41
-2025-10-09 19:41:41
-2025-10-09 19:41:41
-2025-10-09 19:41:41
-2025-10-09 19:41:41
-2025-10-09 19:41:41
-2025-10-09 19:41:41
-2025-10-09 19:41:41
-2025-10-09 19:41:41
-2025-10-09 19:41:41
-2025-10-09 19:41:41
-2025-10-09 19:41:41
-2025-10-09 19:41:41
-2025-10-09 19:41:41
-2025-10-09 19:41:41
-2025-10-09 19:41:41
-2025-10-09 19:41:41
-2025-10-09 19:41:41
-2025-10-09 19:41:41
-2025-10-09 19:41:41
-2025-10-09 19:41:41
-2025-10-09 19:41:41
-2025-10-09 19:41:41
-2025-10-09 19:41:41
-2025-10-09 19:41:41
-2025-10-09 19:41:41
-2025-10-09 19:41:41
-2025-10-09 19:41:41
-2025-10-09 19:41:41
-2025-10-09 19:41:41
-2025-10-09 19:41:41
-2025-10-09 19:41:41
-2025-10-09 19:41:41
-2025-10-09 19:41:41
-2025-10-09 19:41:41
-2025-10-09 19:41:41
-2025-10-09 19:41:41
-2025-10-09 19:41:41
-2025-10-09 19:41:41
-2025-10-09 19:41:41
-2025-10-09 19:41:41
-2025-10-09 19:41:41
-2025-10-09 19:41:41
-2025-10-09 19:41:41
-2025-10-09 19:41:41
-2025-10-09 19:41:41
-2025-10-09 19:41:41
-2025-10-09 19:41:41
-2025-10-09 19:41:41
-2025-10-09 19:41:41
-2025-10-09 19:41:41
-2025-10-09 19:41:41
-2025-10-09 19:41:41
-2025-10-09 19:41:41
-2025-10-09 19:41:41
-2025-10-09 19:41:41
-2025-10-09 19:41:41
-2025-10-09 19:41:41
-2025-10-09 19:41:41
-2025-10-09 19:41:41
-2025-10-09 19:41:41
-2025-10-09 19:41:41
-2025-10-09 19:41:41
-2025-10-09 19:41:41
-2025-10-09 19:41:41
-2025-10-09 19:41:41
-2025-10-09 19:41:41
-2025-10-09 19:41:41
-2025-10-09 19:41:41
-2025-10-09 19:41:41
-2025-10-09 19:41:41
-2025-10-09 19:41:41
-2025-10-09 19:41:41
-2025-10-09 19:41:41
-2025-10-09 19:41:41
-2025-10-09 19:41:41
-2025-10-09 19:41:41
-2025-10-09 19:41:41
-2025-10-09 19:41:41
-2025-10-09 19:41:41
-2025-10-09 19:41:41
-2025-10-09 19:41:41
-2025-10-09 19:41:41
-2025-10-09 19:41:41
-2025-10-09 19:41:41
-2025-10-09 19:41:41
-2025-10-09 19:41:41
-2025-10-09 19:41:41
-2025-10-09 19:41:41
-2025-10-09 19:41:41
-2025-10-09 19:41:41
-2025-10-09 19:41:41
-2025-10-09 19:41:41
-2025-10-09 19:41:41
-2025-10-09 19:41:41
-2025-10-09 19:41:41
-2025-10-09 19:41:41
-2025-10-09 19:41:41
-2025-10-09 19:41:41
-2025-10-09 19:41:41
-2025-10-09 19:41:41
-2025-10-09 19:41:41
-2025-10-09 19:41:41
-2025-10-09 19:41:41
-2025-10-09 19:41:41
-2025-10-09 19:41:41
-2025-10-09 19:41:41
-2025-10-09 19:41:41
-2025-10-09 19:41:42
-2025-10-09 19:41:42
-2025-10-09 19:41:42
-2025-10-09 19:41:42
-2025-10-09 19:41:41
-2025-10-09 19:41:41
-2025-10-09 19:41:41
-2025-10-09 19:41:41
-2025-10-09 19:41:42
-2025-10-09 19:41:42
-2025-10-09 19:41:42
-2025-10-09 19:41:42
-2025-10-09 19:41:42
-2025-10-09 19:41:42
-2025-10-09 19:41:42
-2025-10-09 19:41:42
-2025-10-09 19:41:42
-2025-10-09 19:41:42
-2025-10-09 19:41:42
-2025-10-09 19:41:42
-2025-10-09 19:41:42
-2025-10-09 19:41:42
-2025-10-09 19:41:42
-2025-10-09 19:41:42
-2025-10-09 19:41:42
-2025-10-09 19:41:42
-2025-10-09 19:41:42
-2025-10-09 19:41:42
-2025-10-09 19:41:42
-2025-10-09 19:41:42
-2025-10-09 19:41:42
-2025-10-09 19:41:42
-2025-10-09 19:41:42
-2025-10-09 19:41:42
-2025-10-09 19:41:42
-2025-10-09 19:41:42
-2025-10-09 19:41:42
-2025-10-09 19:41:42
-2025-10-09 19:41:42
-2025-10-09 19:41:42
-2025-10-09 19:41:42
-2025-10-09 19:41:42
-2025-10-09 19:41:42
-2025-10-09 19:41:42
-2025-10-09 19:41:42
-2025-10-09 19:41:42
-2025-10-09 19:41:42
-2025-10-09 19:41:42
-2025-10-09 19:41:42
-2025-10-09 19:41:42
-2025-10-09 19:41:42
-2025-10-09 19:41:42
-2025-10-09 19:41:42
-2025-10-09 19:41:42
-2025-10-09 19:41:42
-2025-10-09 19:41:42
-2025-10-09 19:41:42
-2025-10-09 19:41:42
-2025-10-09 19:41:42
-2025-10-09 19:41:42
-2025-10-09 19:41:42
-2025-10-09 19:41:42
-2025-10-09 19:41:42
-2025-10-09 19:41:42
-2025-10-09 19:41:42
-2025-10-09 19:41:42
-2025-10-09 19:41:42
-2025-10-09 19:41:42
-2025-10-09 19:41:42
-2025-10-09 19:41:42
-2025-10-09 19:41:42
-2025-10-09 19:41:42
-2025-10-09 19:41:42
-2025-10-09 19:41:42
-2025-10-09 19:41:42
-2025-10-09 19:41:42
-2025-10-09 19:41:42
-2025-10-09 19:41:42
-2025-10-09 19:41:42
-2025-10-09 19:41:42
-2025-10-09 19:41:42
-2025-10-09 19:41:42
-2025-10-09 19:41:42
-2025-10-09 19:41:42
-2025-10-09 19:41:42
-2025-10-09 19:41:42
-2025-10-09 19:41:42
-2025-10-09 19:41:42
-2025-10-09 19:41:42
-2025-10-09 19:41:42
-2025-10-09 19:41:42
-2025-10-09 19:41:42
-2025-10-09 19:41:42
-2025-10-09 19:41:42
-2025-10-09 19:41:42
-2025-10-09 19:41:42
-2025-10-09 19:41:42
-2025-10-09 19:41:42
-2025-10-09 19:41:42
-2025-10-09 19:41:42
-2025-10-09 19:41:42
-2025-10-09 19:41:42
-2025-10-09 19:41:42
-2025-10-09 19:41:42
-2025-10-09 19:41:42
-2025-10-09 19:41:42
-2025-10-09 19:41:42
-2025-10-09 19:41:42
-2025-10-09 19:41:42
-2025-10-09 19:41:42
-2025-10-09 19:41:41
-2025-10-09 19:41:41
-2025-10-09 19:41:41
-2025-10-09 19:41:41
-2025-10-09 19:41:41
-2025-10-09 19:41:41
-2025-10-09 19:41:41
-2025-10-09 19:41:41
-2025-04-08 19:35:03
-2025-10-09 19:41:41
-2025-10-09 19:41:41
-2025-10-09 19:41:41
-2025-10-09 19:41:41
-2025-10-09 19:41:41
-2025-10-09 19:41:41
-2025-10-09 19:41:41
-2025-10-09 19:41:41
-2025-10-09 19:41:41
-2025-10-09 19:41:41
-2025-10-09 19:41:41
-2025-10-09 19:41:41
-2025-10-09 19:41:41
-2025-10-09 19:41:41
-2025-10-09 19:41:41
-2025-10-09 19:41:41
-2025-10-09 19:41:41
-2025-10-09 19:41:41
-2025-10-09 19:41:41
-2025-10-09 19:41:41
-2025-10-09 19:41:41
-2025-10-09 19:41:41
-2025-10-09 19:41:41
-2025-10-09 19:41:41
-2025-10-09 19:41:41
-2025-10-09 19:41:41
-2025-10-09 19:41:41
-2025-10-09 19:41:41
-2025-10-09 19:41:41
-2025-10-09 19:41:41
-2025-10-09 19:41:41
-2025-10-09 19:41:41
-2025-10-09 19:41:41
-2025-10-09 19:41:41
-2025-10-09 19:41:41
-2025-10-09 19:41:41
-2025-10-09 19:41:41
-2025-10-09 19:41:41
-2025-10-09 19:41:41
-2025-10-09 19:41:41
-2025-10-09 19:41:41
-2025-10-09 19:41:41
-2025-10-09 19:41:41
-2025-10-09 19:41:41
-2025-10-09 19:41:41
-2025-10-09 19:41:41
-2025-10-09 19:41:41
-2025-10-09 19:41:41
-2025-10-09 19:41:41
-2025-10-09 19:41:41
-2025-10-09 19:41:41
-2025-10-09 19:41:41
-2025-10-09 19:41:41
-2025-10-09 19:41:41
-2025-10-09 19:41:41
-2025-10-09 19:41:41
-2025-10-09 19:41:41
-2025-10-09 19:41:41
-2025-10-09 19:41:41
-2025-10-09 19:41:41
-2025-10-09 19:41:41
-2025-10-09 19:41:41
-2025-10-09 19:41:41
-2025-10-09 19:41:41
-2025-10-09 19:41:41
-2025-10-09 19:41:41
-2025-10-09 19:41:41
-2025-10-09 19:41:41
-2025-10-09 19:41:41
-2025-10-09 19:41:41
-2025-10-09 19:41:41
-2025-10-09 19:41:41
-2025-10-09 19:41:41
-2025-10-09 19:41:41
-2025-10-09 19:41:41
-2025-10-09 19:41:41
-2025-10-09 19:41:41
-2025-10-09 19:41:41
-2025-10-09 19:41:41
-2025-10-09 19:41:41
-2025-10-09 19:41:41
-2025-10-09 19:41:41
-2025-10-09 19:41:41
-2025-10-09 19:41:41
-2025-10-09 19:41:41
-2025-10-09 19:41:41
-2025-10-09 19:41:41
-2025-10-09 19:41:41
-2025-10-09 19:41:41
-2025-10-09 19:41:41
-2025-10-09 19:41:41
-2025-10-09 19:41:41
-2025-10-09 19:41:41
-2025-10-09 19:41:41
-2025-10-09 19:41:41
-2025-10-09 19:41:41
-2025-10-09 19:41:41
-2025-10-09 19:41:41
-2025-10-09 19:41:41
-2025-10-09 19:41:41
-2025-10-09 19:41:41
-2025-10-09 19:41:41
-2025-10-09 19:41:41
-2025-10-09 19:41:41
-2025-10-09 19:41:41
-2025-10-09 19:41:41
-2025-10-09 19:41:41
-2025-10-09 19:41:41
-2025-10-09 19:41:42
-2025-10-09 19:41:42
-2025-10-09 19:41:42
-2025-10-09 19:41:42
-2025-10-09 19:41:42
-2025-10-09 19:41:42
-2025-10-09 19:41:42
-2025-10-09 19:41:42
-2025-10-09 19:41:42
-2025-10-09 19:41:42
-2025-10-09 19:41:42
-2025-10-09 19:41:42
-2025-10-09 19:41:42
-2025-10-09 19:41:42
-2025-10-09 19:41:42
-2025-10-09 19:41:42
-2025-10-09 19:41:42
-2025-10-09 19:41:42
-2025-10-09 19:41:42
-2025-10-09 19:41:42
-2025-10-09 19:41:42
-2025-10-09 19:41:42
-2025-10-09 19:41:42
-2025-10-09 19:41:42
-2025-10-09 19:41:42
-2025-10-09 19:41:42
-2025-10-09 19:41:42
-2025-10-09 19:41:42
-2025-10-09 19:41:42
-2025-04-08 19:35:04
-2025-10-09 19:41:42
-2025-10-09 19:41:42
-2025-10-09 19:41:42
-2025-10-09 19:41:42
-2025-10-09 19:41:42
-2025-10-09 19:41:42
-2025-10-09 19:41:42
-2025-10-09 19:41:42
-2025-10-09 19:41:42
-2025-10-09 19:41:42
-2025-10-09 19:41:42
-2025-10-09 19:41:42
-2025-10-09 19:41:42
-2025-10-09 19:41:42
-2025-10-09 19:41:42
-2025-10-09 19:41:42
-2025-10-09 19:41:42
-2025-10-09 19:41:42
-2025-10-09 19:41:42
-2025-10-09 19:41:42
-2025-10-09 19:41:42
-2025-10-09 19:41:42
-2025-10-09 19:41:42
-2025-10-09 19:41:42
-2025-10-09 19:41:42
-2025-10-09 19:41:42
-2025-10-09 19:41:42
-2025-10-09 19:41:42
-2025-10-09 19:41:42
-2025-10-09 19:41:42
-2025-10-09 19:41:42
-2025-10-09 19:41:42
-2025-10-09 19:41:42
-2025-10-09 19:41:42
-2025-10-09 19:41:42
-2025-10-09 19:41:42
-2025-10-09 19:41:42
-2025-10-09 19:41:42
-2025-10-09 19:41:42
-2025-10-09 19:41:42
-2025-04-08 19:35:04
-2025-10-09 19:41:42
-2025-10-09 19:41:42
-2025-10-09 19:41:42
-2025-10-09 19:41:42
-2025-10-09 19:41:42
-2025-10-09 19:41:42
-2025-10-09 19:41:42
-2025-10-09 19:41:42
-2025-10-09 19:41:42
-2025-10-09 19:41:42
-2025-10-09 19:41:42
-2025-10-09 19:41:42
-2025-10-09 19:41:42
-2025-10-09 19:41:42
-2025-10-09 19:41:42
-2025-10-09 19:41:42
-2025-10-09 19:41:42
-2025-10-09 19:41:42
-2025-10-09 19:41:42
7.1 KiB2025-10-09 19:41:40
7.1 KiB2025-10-09 19:41:40
7.0 KiB2025-10-09 19:41:40
47.3 KiB2025-10-09 19:41:40
2.6 KiB2025-10-09 19:41:40
31.6 KiB2025-10-09 19:41:40
3.4 KiB2025-10-09 19:41:40
600.3 KiB2025-10-09 19:41:42
46.6 KiB2025-10-09 19:41:40
7.4 KiB2025-10-09 19:41:40
531.8 KiB2025-10-09 19:41:40
11.9 KiB2025-10-09 19:41:40
6.0 KiB2025-10-09 19:41:40
1.1 MiB2025-10-09 19:41:44
0 B2025-10-09 19:41:40