Package: ALL Version: 1.51.0 Command: /home/biocbuild/bbs-3.22-bioc/R/bin/R CMD INSTALL ALL StartedAt: 2025-07-08 10:56:26 -0400 (Tue, 08 Jul 2025) EndedAt: 2025-07-08 10:56:30 -0400 (Tue, 08 Jul 2025) EllapsedTime: 4.0 seconds RetCode: 0 Status: OK