Package: ALLMLL Version: 1.51.0 Command: /home/biocbuild/bbs-3.23-bioc/R/bin/R CMD INSTALL ALLMLL StartedAt: 2025-11-04 10:56:32 -0500 (Tue, 04 Nov 2025) EndedAt: 2025-11-04 10:56:39 -0500 (Tue, 04 Nov 2025) EllapsedTime: 6.1 seconds RetCode: 0 Status: OK