Package: ALLMLL Version: 1.49.0 Command: /home/biocbuild/bbs-3.22-bioc/R/bin/R CMD build --keep-empty-dirs --no-resave-data ALLMLL StartedAt: 2025-07-08 11:07:24 -0400 (Tue, 08 Jul 2025) EndedAt: 2025-07-08 11:07:28 -0400 (Tue, 08 Jul 2025) EllapsedTime: 4.9 seconds RetCode: 0 Status: OK PackageFile: ALLMLL_1.49.0.tar.gz PackageFileSize: 25.62 MiB